BEGIN:VCALENDAR
VERSION:2.0
PRODID:-//Squarespace Inc/Squarespace 6//v6//EN
BEGIN:VEVENT
UID:59751c822e69cf20a2840952@squarespace.com
DTSTAMP:20170727T044119Z
DTSTART:20170831T120000Z
DTEND:20170831T130000Z
SUMMARY:9G - Geography (Ms Gault) Biomes and Food Security: Part 2
END:VEVENT
END:VCALENDAR
