BEGIN:VCALENDAR
VERSION:2.0
PRODID:-//Squarespace Inc/Squarespace 6//v6//EN
BEGIN:VEVENT
UID:59751c7220099e96a3982df0@squarespace.com
DTSTAMP:20170727T044030Z
DTSTART:20170831T120000Z
DTEND:20170831T130000Z
SUMMARY:9B - Science (Mr R Ball) Energy Presentation Practical
END:VEVENT
END:VCALENDAR
