BEGIN:VCALENDAR
VERSION:2.0
PRODID:-//Squarespace Inc/Squarespace 6//v6//EN
BEGIN:VEVENT
UID:59751c405016e132ff018843@squarespace.com
DTSTAMP:20170727T043954Z
DTSTART:20170831T120000Z
DTEND:20170831T130000Z
SUMMARY:9B - Geography (Mr Goetze) Biomes and Food Security: Part 2
END:VEVENT
END:VCALENDAR
