BEGIN:VCALENDAR
VERSION:2.0
PRODID:-//Squarespace Inc/Squarespace 6//v6//EN
BEGIN:VEVENT
UID:59751c148419c204deeb0518@squarespace.com
DTSTAMP:20170828T234010Z
DTSTART:20170829T125000Z
DTEND:20170830T140500Z
SUMMARY:9H - Science (Mrs Harrold) Energy Presentation Pre-Prac Write up
END:VEVENT
END:VCALENDAR
