BEGIN:VCALENDAR
VERSION:2.0
PRODID:-//Squarespace Inc/Squarespace 6//v6//EN
BEGIN:VEVENT
UID:59751b22e3df28d8889d7363@squarespace.com
DTSTAMP:20170727T042908Z
DTSTART:20170824T120000Z
DTEND:20170824T130000Z
SUMMARY:9H - Geography (Ms Gault) Biomes and Food Security: Part 1
END:VEVENT
END:VCALENDAR
