BEGIN:VCALENDAR
VERSION:2.0
PRODID:-//Squarespace Inc/Squarespace 6//v6//EN
BEGIN:VEVENT
UID:59751bf7cf81e0da664eaf98@squarespace.com
DTSTAMP:20170727T043616Z
DTSTART:20170824T120000Z
DTEND:20170824T130000Z
SUMMARY:9B - Geography (Mr Goetze) Biomes and Food Security: Part 1
END:VEVENT
END:VCALENDAR
