BEGIN:VCALENDAR
VERSION:2.0
PRODID:-//Squarespace Inc/Squarespace 6//v6//EN
BEGIN:VEVENT
UID:59751acb725e25e03b6cd6a0@squarespace.com
DTSTAMP:20170821T220513Z
DTSTART:20170901T120000Z
DTEND:20170901T130000Z
SUMMARY:9H - Mathematics (Mrs Harrold) Rainwater Tank Assessment Task
END:VEVENT
END:VCALENDAR
