BEGIN:VCALENDAR
VERSION:2.0
PRODID:-//Squarespace Inc/Squarespace 6//v6//EN
BEGIN:VEVENT
UID:59751aa6b3db2b4e8b01a8f0@squarespace.com
DTSTAMP:20170727T042533Z
DTSTART:20170822T120000Z
DTEND:20170822T130000Z
SUMMARY:9 - Outdoor Ed (Mr McGann) Assignment - Camp Reflection
END:VEVENT
END:VCALENDAR
