BEGIN:VCALENDAR
VERSION:2.0
PRODID:-//Squarespace Inc/Squarespace 6//v6//EN
BEGIN:VEVENT
UID:59751a92579fb3d3de026044@squarespace.com
DTSTAMP:20170727T041400Z
DTSTART:20170822T120000Z
DTEND:20170822T130000Z
SUMMARY:9 - Coding (Mr Purnell) Web Page Design (Draft)
END:VEVENT
END:VCALENDAR
