BEGIN:VCALENDAR
VERSION:2.0
PRODID:-//Squarespace Inc/Squarespace 6//v6//EN
BEGIN:VEVENT
UID:59751a5dd482e9419b1820a9@squarespace.com
DTSTAMP:20170815T230943Z
DTSTART:20170829T120000Z
DTEND:20170829T130000Z
SUMMARY:9 - Drama (Mrs Larner) Directing Task
END:VEVENT
END:VCALENDAR
