BEGIN:VCALENDAR
VERSION:2.0
PRODID:-//Squarespace Inc/Squarespace 6//v6//EN
BEGIN:VEVENT
UID:59751a3ce4fcb57d7163a9cc@squarespace.com
DTSTAMP:20170727T041242Z
DTSTART:20170815T120000Z
DTEND:20170815T130000Z
SUMMARY:9 - Cinematography (Mr Jeffs) Music Video Analysis
END:VEVENT
END:VCALENDAR
