BEGIN:VCALENDAR
VERSION:2.0
PRODID:-//Squarespace Inc/Squarespace 6//v6//EN
BEGIN:VEVENT
UID:59751a1a29687fd9f2b32a15@squarespace.com
DTSTAMP:20170727T041025Z
DTSTART:20170808T120000Z
DTEND:20170808T130000Z
SUMMARY:9 - Coding (Mr Purnell) Web Page Design (Draft)
END:VEVENT
END:VCALENDAR
