BEGIN:VCALENDAR
VERSION:2.0
PRODID:-//Squarespace Inc/Squarespace 6//v6//EN
BEGIN:VEVENT
UID:597519f66a49636e87671fac@squarespace.com
DTSTAMP:20170727T040926Z
DTSTART:20170731T120000Z
DTEND:20170731T130000Z
SUMMARY:9 - Dance (Mrs McGann) Wakakirri Production Assessment
END:VEVENT
END:VCALENDAR
