BEGIN:VCALENDAR
VERSION:2.0
PRODID:-//Squarespace Inc/Squarespace 6//v6//EN
BEGIN:VEVENT
UID:597519bf1e5b6c34b276e68d@squarespace.com
DTSTAMP:20170723T214856Z
DTSTART:20170726T120000Z
DTEND:20170726T200000Z
SUMMARY:9B - English (Mrs du Toit) Formative C/P 2: In-class Comprehension
END:VEVENT
END:VCALENDAR
