BEGIN:VCALENDAR
VERSION:2.0
PRODID:-//Squarespace Inc/Squarespace 6//v6//EN
BEGIN:VEVENT
UID:597519ac579fb3d3de0255bb@squarespace.com
DTSTAMP:20170727T041159Z
DTSTART:20170724T120000Z
DTEND:20170724T130000Z
SUMMARY:9H - English (Mrs Humphreys) Spoken Word Performance: Draft
END:VEVENT
END:VCALENDAR
