BEGIN:VCALENDAR
VERSION:2.0
PRODID:-//Squarespace Inc/Squarespace 6//v6//EN
BEGIN:VEVENT
UID:5975199520099e96a3980d92@squarespace.com
DTSTAMP:20170723T214810Z
DTSTART:20170724T120000Z
DTEND:20170724T200000Z
SUMMARY:9G - English (Mrs Buttsworth) Spoken Word Performance: Draft
END:VEVENT
END:VCALENDAR
