BEGIN:VCALENDAR
VERSION:2.0
PRODID:-//Squarespace Inc/Squarespace 6//v6//EN
BEGIN:VEVENT
UID:59751963e58c628c613812e5@squarespace.com
DTSTAMP:20170723T214753Z
DTSTART:20170724T120000Z
DTEND:20170724T200000Z
SUMMARY:9B - English (Mrs du Toit) Spoken Word Performance: Draft
END:VEVENT
END:VCALENDAR
