BEGIN:VCALENDAR
VERSION:2.0
PRODID:-//Squarespace Inc/Squarespace 6//v6//EN
BEGIN:VEVENT
UID:59a4aaa9d55b419990aa72a3@squarespace.com
DTSTAMP:20170828T234515Z
DTSTART:20170905T125500Z
DTEND:20170905T140500Z
SUMMARY:9H Science (Mrs Harrold) Final Write Up
END:VEVENT
END:VCALENDAR
