BEGIN:VCALENDAR
VERSION:2.0
PRODID:-//Squarespace Inc/Squarespace 6//v6//EN
BEGIN:VEVENT
UID:59a4a8ebe9bfdf59ba4bbede@squarespace.com
DTSTAMP:20170828T234052Z
DTSTART:20170904T143000Z
DTEND:20170904T154000Z
SUMMARY:9H Science (Mrs Harrold) Practical Session
END:VEVENT
END:VCALENDAR
